BEGIN:VCALENDAR
VERSION:2.0
PRODID:-//AudioTheme 3.0.2
BEGIN:VEVENT
UID:urn:uuid:ea5f37e3-9282-4375-8aee-746956254222
URL:https://alisonmelville.com/shows/2022-11-12-2/
DTSTART;TZID=GMT:20221112T000000
SUMMARY:FIMTE: Las Musas Aladas/Feathered Muses
DESCRIPTION:Music for recorders and flutes\, from Bach and Telemann to music of the 21st century.   Alison Melville with Armando Jose Fuentes\, lute\, and Julian Navarro\, Baroque guitar.
LOCATION:Parador de Mojácar\, Paseo del Mediterráneo\, 339 04638 Mojácar\, Spain
END:VEVENT
END:VCALENDAR
