BEGIN:VCALENDAR
VERSION:2.0
PRODID:-//AudioTheme 3.0.2
BEGIN:VEVENT
UID:urn:uuid:ad8bd4fb-662d-493a-b139-48e91a947307
URL:https://alisonmelville.com/shows/2022-11-21/
DTSTART;TZID=GMT:20221121T000000
SUMMARY:Toronto Consort at the Fisher Rare Books Library
DESCRIPTION:A short program of medieval music for voices\, bowed and plucked strings\, hurdy gurdy and flutes\, in conjunction with the exhibition 'Certaine Worthye Manuscripts' at the Fisher Collection\, Robarts Library\, University of Toronto.
LOCATION:Thomas Fisher Rare Books Library\, Robarts Library\, 120 St. George St.\, Toronto\, ON M
END:VEVENT
END:VCALENDAR
