BEGIN:VCALENDAR
VERSION:2.0
PRODID:-//AudioTheme 3.0.2
BEGIN:VEVENT
UID:urn:uuid:335966b2-6caa-49b3-ae0b-078d6e68da25
URL:https://alisonmelville.com/shows/2022-12-10/
DTSTART;TZID=GMT:20221211T010000
SUMMARY:Toronto Consort: The Praetorius Christmas Vespers
DESCRIPTION:Artistic Director Emeritus David Fallis returns with one of Toronto’s beloved Christmas traditions! Singers\, violins\, cornetti\, sackbuts\, recorder\, theorbos and keyboards grace the balconies and stage\, as we recreate the joy of Christmas Vespers as it might have been heard under the direction of Michael Praetorius in 17th-century Germany. In the spirit of the season\, the audience and Consort join forces in singing favourite early Christmas carols. A sell-out in previous seasons\, this yuletide celebration marks the triumphant return of live audiences!
LOCATION:Trinity St. Paul's Centre\, 427 Bloor St W\, Toronto\, Ontario\, Canada\, M5S 1X7
END:VEVENT
END:VCALENDAR
