BEGIN:VCALENDAR
VERSION:2.0
PRODID:-//AudioTheme 3.0.2
BEGIN:VEVENT
UID:urn:uuid:6c646672-04ac-4af8-bae5-88782f93c242
URL:https://alisonmelville.com/shows/2023-01-28/
DTSTART;TZID=GMT:20230129T010000
SUMMARY:Toronto Consort: Winter Revels
DESCRIPTION:Chase those winter blues away with a rollicking Elizabethan kitchen party! Join us for an evening of blood-pumping\, yet heart-warming dance tunes and ballads. Featuring some of our favourite composers\, including Orlando di Lasso\, Playford\, and Ravenscroft\, this New Year soirée is a celebration of spirit guaranteed to send you home smiling from ear to ear. Artistic Direction: Laura Pudwell and Alison Melville.
LOCATION:Trinity St. Paul's Centre\, 427 Bloor St W\, Toronto\, Ontario\, Canada\, M5S 1X7
END:VEVENT
END:VCALENDAR
