BEGIN:VCALENDAR
VERSION:2.0
PRODID:-//AudioTheme 3.0.2
BEGIN:VEVENT
UID:urn:uuid:03ec1085-8e1d-4f88-a005-10e50d2eb42e
URL:https://alisonmelville.com/shows/2023-02-20/
DTSTART;TZID=GMT:20230221T003000
SUMMARY:In Recital: Music by Eatock, Bach, Andriessen, Telemann, Poser
DESCRIPTION:A recital with Christopher Bagan\, harpsichord\, with a program built around the premiere of Colin Eatock's Two Pieces for Tenor Recorder & Harpsichord (2022). Other works by JS Bach\, H. Poser\, GP Telemann\, Andriessen. Admission free (contibutions welcome!).
LOCATION:Heliconian Hall\, 35 Hazelton Ave\, Toronto\, Ontario\, Canada\, M5R 1M6
END:VEVENT
END:VCALENDAR
