BEGIN:VCALENDAR
VERSION:2.0
PRODID:-//AudioTheme 3.0.2
BEGIN:VEVENT
UID:urn:uuid:e4791222-61d2-4e56-ade5-01db38c4f219
URL:https://alisonmelville.com/shows/2023-03-08/
DTSTART;TZID=GMT:20230308T170000
SUMMARY:Italy in Edinburgh
DESCRIPTION:Alison Melville (traverso\, recorders) and Julia Seager Scott (Baroque triple harp).   Solos and duets from Baroque Scotland\, by Scottish composers and their colleagues from Edinburgh's Italian immigrant community. Sonatas\, variations\, and settings of traditional Scottish tunes by Barsanti\, Oswald\, Munro and others\, with a wee dash of Vivaldi. 
LOCATION:Richard Bradshaw Amphitheatre\, Four Seasons Centre 145 Queen St. W.\, Toronto\, Ontario\, Canada\, M5H 4G1
END:VEVENT
END:VCALENDAR
