BEGIN:VCALENDAR
VERSION:2.0
PRODID:-//AudioTheme 3.0.2
BEGIN:VEVENT
UID:urn:uuid:1e0e152d-3f5e-4d88-ba24-1765b51e0231
URL:https://alisonmelville.com/shows/2023-03-18/
DTSTART;TZID=GMT:20230318T000000
SUMMARY:Showroom
DESCRIPTION:Presented by Continuum Contemporary Music. In a one-room boutique\, a mysterious connection between three characters comes to light. The evocative sound world of Rodney Sharman\, masterfully crafted using both early and modern instruments\, comes together with libretto of long-time collaborator Atom Egoyan to form a compelling drama of tangled ties and revelations. As clothes are folded\, the characters’ lives unfold in unexpected ways.
LOCATION:Music Gallery\, 918 Bathurst Street\, Toronto\, ON\, M5R 3G5
END:VEVENT
END:VCALENDAR
