BEGIN:VCALENDAR
VERSION:2.0
PRODID:-//AudioTheme 3.0.2
BEGIN:VEVENT
UID:urn:uuid:a775b1da-9d3c-45d4-9a78-6dafe642ead8
URL:https://alisonmelville.com/shows/2023-03-24/
DTSTART;TZID=GMT:20230324T233000
SUMMARY:Bach's St. John Passion
DESCRIPTION:Tafelmusik Baroque Orchestra and Chamber Choir. Directed by Ivars Taurins\, with Myriam Leblanc soprano\; Krisztina Szabó mezzo-soprano\; James Gilchrist Evangelist and tenor\; William Sharp\, Jesus and baritone\; Jonathon Adams Petrus\, Pilatus\, and baritone.
LOCATION:Trinity St. Paul's Centre\, 427 Bloor St W\, Toronto\, Ontario\, Canada\, M5S 1X7
END:VEVENT
END:VCALENDAR
