BEGIN:VCALENDAR
VERSION:2.0
PRODID:-//AudioTheme 3.0.2
BEGIN:VEVENT
UID:urn:uuid:d7f6def9-45d7-40a5-bc10-10b978f5aab4
URL:https://alisonmelville.com/shows/2023-04-06/
DTSTART;TZID=GMT:20230406T233000
SUMMARY:Opera Atelier: Händel's The Resurrection
DESCRIPTION:Opera Atelier's long-awaited production of Handel's The Resurrection arrives fully staged at Koerner Hall\, just in time for the Easter season. Featuring Colin Ainsworth\, Carla Huhtanen\, Meghan Lindsay\, Allyson McHardy\, and Douglas Williams. 
LOCATION:Koerner Hall\, 273 Bloor St W\, Toronto\, Ontario\, Canada\, M5S 1V6
END:VEVENT
END:VCALENDAR
