BEGIN:VCALENDAR
VERSION:2.0
PRODID:-//AudioTheme 3.0.2
BEGIN:VEVENT
UID:urn:uuid:ff82ffc0-1e82-4a65-bb5a-b8783f8fa393
URL:https://alisonmelville.com/shows/2023-04-09/
DTSTART;TZID=GMT:20230409T183000
SUMMARY:Opera Atelier: Händel's The Resurrection
DESCRIPTION:Opera Atelier's long-awaited production of Handel's The Resurrection arrives fully staged at Koerner Hall\, just in time for the Easter season. Featuring Colin Ainsworth\, Carla Huhtanen\, Meghan Lindsay\, Allyson McHardy\, and Douglas Williams. 
LOCATION:Koerner Hall\, 273 Bloor St W\, Toronto\, Ontario\, Canada\, M5S 1V6
END:VEVENT
END:VCALENDAR
