BEGIN:VCALENDAR
VERSION:2.0
PRODID:-//AudioTheme 3.0.2
BEGIN:VEVENT
UID:urn:uuid:41bf4bf4-8028-44ed-a448-4af4cdeaba46
URL:https://alisonmelville.com/shows/2023-05-14/
DTSTART;TZID=GMT:20230514T190000
SUMMARY:Tafelmusik's Grand Voyage: The French Baroque
DESCRIPTION:Orchestral music of the French Baroque\, with guest director and violin soloist Leila Shayegh.
LOCATION:Trinity St. Paul's Centre\, 427 Bloor St W\, Toronto\, Ontario\, Canada\, M5S 1X7
END:VEVENT
END:VCALENDAR
