BEGIN:VCALENDAR
VERSION:2.0
PRODID:-//AudioTheme 3.0.2
BEGIN:VEVENT
UID:urn:uuid:cb6091a1-e24d-4cf8-989c-ba82f28e5969
URL:https://alisonmelville.com/shows/a-german-requiem/
DTSTART;TZID=GMT:20180331T233000
SUMMARY:A German Requiem
DESCRIPTION:The great choral work by Johannes Brahms\, led by conductor Gerald Neufeld and featuring the Guelph Chamber Choir and Musica Viva period instrument orchestra.
LOCATION:River Run Centre\, Guelph\, ON\, 35 Woolwich St\, Guelph\, Ontario\, Canada\, N1H 3V1
END:VEVENT
END:VCALENDAR
