BEGIN:VCALENDAR
VERSION:2.0
PRODID:-//AudioTheme 3.0.2
BEGIN:VEVENT
UID:urn:uuid:f849ad31-711f-4b41-aa9f-2f67acebb159
URL:https://alisonmelville.com/shows/acteon-pygmalion-2/
DTSTART;TZID=GMT:20181116T013000
SUMMARY:Actéon/Pygmalion
DESCRIPTION:Opera Atelier's French Baroque double-bill goes to Chicago!
LOCATION:Harris Theater\, 205 E. Randolph Drive\, Chicago\, IL\, USA\, 60601
END:VEVENT
END:VCALENDAR
