BEGIN:VCALENDAR
VERSION:2.0
PRODID:-//AudioTheme 3.0.2
BEGIN:VEVENT
UID:urn:uuid:e41f8b4f-d159-4dd7-b9a5-dc85c494a129
URL:https://alisonmelville.com/shows/acteon-pygmalion-3/
DTSTART;TZID=GMT:20181117T013000
SUMMARY:Actéon/Pygmalion
DESCRIPTION:Opera Atelier's French Baroque double-bill in Chicago.
LOCATION:Harris Theater\, 205 E. Randolph Drive\, Chicago\, IL\, USA\, 60601
END:VEVENT
END:VCALENDAR
