BEGIN:VCALENDAR
VERSION:2.0
PRODID:-//AudioTheme 3.0.2
BEGIN:VEVENT
UID:urn:uuid:d66e54be-4ac8-49ac-b11d-9c7ec4ec1375
URL:https://alisonmelville.com/shows/acteon-pygmalion-4/
DTSTART;TZID=GMT:20181117T200000
SUMMARY:Actéon/Pygmalion
DESCRIPTION:Saturday matinee performance of Opera Atelier's French Baroque double-bill in Chicago.
LOCATION:Harris Theater\, 205 E. Randolph Drive\, Chicago\, IL\, USA\, 60601
END:VEVENT
END:VCALENDAR
