BEGIN:VCALENDAR
VERSION:2.0
PRODID:-//AudioTheme 3.0.2
BEGIN:VEVENT
UID:urn:uuid:a3438c1e-0d78-4028-869b-9d54818ce9e3
URL:https://alisonmelville.com/shows/acteon-pygmalion-5/
DTSTART;TZID=GMT:20181130T190000
SUMMARY:Actéon/Pygmalion
DESCRIPTION:Opera Atelier's production of Charpentier's Actéon and Rameau's Pygmalion\, at the Royal Opera in Versailles\, France.
LOCATION:Opera Royal\, 4 Avenue de Paris\, Versailles\, France\, France
END:VEVENT
END:VCALENDAR
