BEGIN:VCALENDAR
VERSION:2.0
PRODID:-//AudioTheme 3.0.2
BEGIN:VEVENT
UID:urn:uuid:ecbed55a-1d94-411d-96b2-23e5ce94706e
URL:https://alisonmelville.com/shows/acteon-pygmalion-6/
DTSTART;TZID=GMT:20181201T180000
SUMMARY:Actéon/Pygmalion
DESCRIPTION:Opera Atelier's French Baroque double-bill of masterpieces by Charpentier and Rameau\, in Versailles\, France.
LOCATION:Opera Royal\, 4 Avenue de Paris\, Versailles\, France\, France
END:VEVENT
END:VCALENDAR
