BEGIN:VCALENDAR
VERSION:2.0
PRODID:-//AudioTheme 3.0.2
BEGIN:VEVENT
UID:urn:uuid:31992d64-0209-435d-8e84-7fd14daac2b9
URL:https://alisonmelville.com/shows/acteon-pygmalion-7/
DTSTART;TZID=GMT:20181202T140000
SUMMARY:Actéon/Pygmalion
DESCRIPTION:Masterworks by Charpentier and Rameau interpreted by Opera Atelier\, in Versailles\, France.
LOCATION:Opera Royal\, 4 Avenue de Paris\, Versailles\, France\, France
END:VEVENT
END:VCALENDAR
