BEGIN:VCALENDAR
VERSION:2.0
PRODID:-//AudioTheme 3.0.2
BEGIN:VEVENT
UID:urn:uuid:8b3e1abc-bcf8-4b9c-bd55-bab53d0a63a3
URL:https://alisonmelville.com/shows/acteon-pygmalion/
DTSTART;TZID=GMT:20181025T233000
SUMMARY:Actéon/Pygmalion
DESCRIPTION:Opera Atelier presents a Baroque French double-bill - Charpentier's Actéon and Rameau's Pygmalion!
LOCATION:Elgin Theatre\, 189 Yonge St\, Toronto\, Ontario\, Canada\, M5B 1M4
END:VEVENT
END:VCALENDAR
