BEGIN:VCALENDAR
VERSION:2.0
PRODID:-//AudioTheme 3.0.2
BEGIN:VEVENT
UID:urn:uuid:ee482ed6-c919-4a97-8848-404324fb0974
URL:https://alisonmelville.com/shows/all-creatures-great-and-small-downtown-toronto/
DTSTART;TZID=GMT:20220521T233000
SUMMARY:All Creatures Great and Small - downtown Toronto
DESCRIPTION:North Wind Concerts presents All Creatures Great and Small - Baroque music inspired by the sounds of nature!
LOCATION:St. Thomas's Anglican Church\, 383 Huron St\, Toronto\, Ontario\, Canada\, M5S 2G5
END:VEVENT
END:VCALENDAR
