BEGIN:VCALENDAR
VERSION:2.0
PRODID:-//AudioTheme 3.0.2
BEGIN:VEVENT
UID:urn:uuid:9bebdaa7-691d-4493-bdb7-7c1fb2a2eb30
URL:https://alisonmelville.com/shows/all-creatures-great-and-small/
DTSTART;TZID=GMT:20220520T233000
SUMMARY:All Creatures Great and Small
DESCRIPTION:Baroque music inspired by the sounds of nature.
LOCATION:Villa Charities\, 901 Lawrence Avenue West\, North York\, ON\, Canada\, M6A 1C3
END:VEVENT
END:VCALENDAR
