BEGIN:VCALENDAR
VERSION:2.0
PRODID:-//AudioTheme 3.0.2
BEGIN:VEVENT
UID:urn:uuid:335c0c85-f5ba-4318-b919-dc3aa6a0bd77
URL:https://alisonmelville.com/shows/all-in-the-family/
DTSTART;TZID=GMT:20190113T200000
SUMMARY:All in the Family with the Windermere String Quartet
DESCRIPTION:J.C. Bach's Quartet in G for flute and strings\, with the Windermere String Quartet.
LOCATION:St. Olave's Anglican Church\, 360 Windermere Avenue\, undefined\, ON\, Canada\, M6S 3L4
END:VEVENT
END:VCALENDAR
