BEGIN:VCALENDAR
VERSION:2.0
PRODID:-//AudioTheme 3.0.2
BEGIN:VEVENT
UID:urn:uuid:a21a77c6-62d8-42c9-ab49-99bc5d1b3e2c
URL:https://alisonmelville.com/shows/bach-b-minor-mass-livestream/
DTSTART;TZID=GMT:20220506T000000
SUMMARY:BACH B-MINOR MASS - Livestream
DESCRIPTION:Masaaki Suzuki directs the Tafelmusik Baroque Orchestra and Chamber Choir\, and guest soloists. Digital concert.
LOCATION:Online Concert Hall
END:VEVENT
END:VCALENDAR
