BEGIN:VCALENDAR
VERSION:2.0
PRODID:-//AudioTheme 3.0.2
BEGIN:VEVENT
UID:urn:uuid:cceb78d2-9200-4150-8e29-ae0ab4431f41
URL:https://alisonmelville.com/shows/bach-b-minor-mass/
DTSTART;TZID=GMT:20220505T233000
SUMMARY:BACH B-MINOR MASS - live concert
DESCRIPTION:Masaaki Suzuki directs the Tafelmusik Baroque Orchestra and Chamber Choir\, and guest soloists. Live concert!
LOCATION:Massey Hall\, 178 Victoria Street\, Toronto\, ON\, Canada\, M5B 1T7
END:VEVENT
END:VCALENDAR
