BEGIN:VCALENDAR
VERSION:2.0
PRODID:-//AudioTheme 3.0.2
BEGIN:VEVENT
UID:urn:uuid:c2852e2c-65d3-4443-bed4-4adcd3244efa
URL:https://alisonmelville.com/shows/canoe/
DTSTART;TZID=GMT:20230915T233000
SUMMARY:CANOE
DESCRIPTION:A brand new two-act opera by UNSETTLED SCORES in collaboration with Theatre Passe Muraille\, Native Earth Performing Arts\, and the Toronto Consort.
LOCATION:Trinity St. Paul's Centre\, 427 Bloor St W\, Toronto\, Ontario\, Canada\, M5S 1X7
END:VEVENT
END:VCALENDAR
