BEGIN:VCALENDAR
VERSION:2.0
PRODID:-//AudioTheme 3.0.2
BEGIN:VEVENT
UID:urn:uuid:b81c7bc5-bd2d-4e16-82a1-e42863c4f17f
URL:https://alisonmelville.com/shows/continuum-contemporary-music-show-room/
DTSTART;TZID=GMT:20200605T000000
SUMMARY:Covid-CX - Continuum Contemporary Music: Show Room
DESCRIPTION:World premiere of the chamber opera Show Room. Music by Rodney Sharman\, libretto by Atom Egoyan. Three voices\, instrumental ensemble including two recorders.
LOCATION:Music Gallery\, 918 Bathurst Street\, Toronto\, ON\, M5R 3G5
END:VEVENT
END:VCALENDAR
