BEGIN:VCALENDAR
VERSION:2.0
PRODID:-//AudioTheme 3.0.2
BEGIN:VEVENT
UID:urn:uuid:2cf84b41-e473-4396-b42b-dff363f07ce1
URL:https://alisonmelville.com/shows/evensong-prelude-st-thomass/
DTSTART;TZID=GMT:20180225T000000
SUMMARY:Evensong Prelude @ St. Thomas's
LOCATION:St. Thomas's Anglican Church\, 383 Huron Street\, Toronto\, ON
END:VEVENT
END:VCALENDAR
