BEGIN:VCALENDAR
VERSION:2.0
PRODID:-//AudioTheme 3.0.2
BEGIN:VEVENT
UID:urn:uuid:5ea0ba98-d7d5-4bf0-9b4d-c111fcf6e219
URL:https://alisonmelville.com/shows/hammer-baroque-baroque-for-burns/
DTSTART;TZID=GMT:20190127T190000
SUMMARY:Hammer Baroque: Baroque for Burns
DESCRIPTION:Celebrate Robbie Burns's birthday weekend with music of Oswald\, Munro\, O'Carolan\, Gow\, Gunn and others.  Julia Seager-Scott\, Baroque triple harp & clarsach\; Laura Jones\, Baroque cello & viola da gamba\; Alison Melville\, traverso & recorder.
LOCATION:Hammer Baroque\, Hamilton\, Ontario\, Canada
END:VEVENT
END:VCALENDAR
