BEGIN:VCALENDAR
VERSION:2.0
PRODID:-//AudioTheme 3.0.2
BEGIN:VEVENT
UID:urn:uuid:fc59f6c9-e156-4dc1-ab93-5c9cf712ecea
URL:https://alisonmelville.com/shows/handels-acis-and-galatea/
DTSTART;TZID=GMT:20191019T180000
SUMMARY:Händel's 'Acis and Galatea'
DESCRIPTION:University of Toronto Historical Performance Department production with students\, faculty and guests. Musical Direction\, Larry Beckwith\; Stage Direction\, Isiah Bell and Erik Thor.
LOCATION:Heliconian Hall\, 35 Hazelton Ave\, Toronto\, Ontario\, Canada\, M5R 1M6
END:VEVENT
END:VCALENDAR
