BEGIN:VCALENDAR
VERSION:2.0
PRODID:-//AudioTheme 3.0.2
BEGIN:VEVENT
UID:urn:uuid:85627890-9116-482f-ba0d-40f489ff28f9
URL:https://alisonmelville.com/shows/henry-purcells-king-arthur/
DTSTART;TZID=GMT:20191120T003000
SUMMARY:Henry Purcell's 'King Arthur'
DESCRIPTION:University of Toronto Historical Performance Department production with students\, faculty and guests. Music Director\, Christopher Bagan\; Stage Direction\, Erik Thor\; Choreography\, Dominic Who.
LOCATION:Trinity St. Paul's Centre\, 427 Bloor St W\, Toronto\, Ontario\, Canada\, M5S 1X7
END:VEVENT
END:VCALENDAR
