BEGIN:VCALENDAR
VERSION:2.0
PRODID:-//AudioTheme 3.0.2
BEGIN:VEVENT
UID:urn:uuid:305dd6cf-5df4-4d4d-aea1-a1f5b4f3ba4f
URL:https://alisonmelville.com/shows/j-s-bachs-st-john-passion/
DTSTART;TZID=GMT:20190419T000000
SUMMARY:J.S. Bach's St. John Passion
DESCRIPTION:A co-presentation of Calgary's Luminous Voices and Rosa Barocca.
LOCATION:Bella Concert Hall\, Calgary\, AB\, Canada
END:VEVENT
END:VCALENDAR
