BEGIN:VCALENDAR
VERSION:2.0
PRODID:-//AudioTheme 3.0.2
BEGIN:VEVENT
UID:urn:uuid:684244a3-5207-491a-a791-fb7acd3348c8
URL:https://alisonmelville.com/shows/j-s-bachs-st-matthew-passion-2/
DTSTART;TZID=GMT:20190323T000000
SUMMARY:J.S. Bach's St. Matthew Passion
DESCRIPTION:Tafelmusik Baroque Orchestra under guest director Masaaki Suzuki.
LOCATION:Trinity St. Paul's Centre\, 427 Bloor St W\, Toronto\, Ontario\, Canada\, M5S 1X7
END:VEVENT
END:VCALENDAR
