BEGIN:VCALENDAR
VERSION:2.0
PRODID:-//AudioTheme 3.0.2
BEGIN:VEVENT
UID:urn:uuid:3df24a44-3404-4567-a26a-90c39bb832dd
URL:https://alisonmelville.com/shows/j-s-bachs-st-matthew-passion-3/
DTSTART;TZID=GMT:20190324T000000
SUMMARY:J.S. Bach's St. Matthew Passion
DESCRIPTION:Tafelmusik Baroque Orchestra under guest director Masaaki Suzuki.
LOCATION:Trinity St. Paul's Centre\, 427 Bloor St W\, Toronto\, Ontario\, Canada\, M5S 1X7
END:VEVENT
END:VCALENDAR
