BEGIN:VCALENDAR
VERSION:2.0
PRODID:-//AudioTheme 3.0.2
BEGIN:VEVENT
UID:urn:uuid:e2abcc0f-04c3-4d91-ad84-71b33891726b
URL:https://alisonmelville.com/shows/j-s-bachs-st-matthew-passion-4/
DTSTART;TZID=GMT:20190324T193000
SUMMARY:J.S. Bach's St. Matthew Passion
DESCRIPTION:Tafelmusik Baroque Orchestra under guest director Masaaki Suzuki.
LOCATION:Trinity St. Paul's Centre\, 427 Bloor St W\, Toronto\, Ontario\, Canada\, M5S 1X7
END:VEVENT
END:VCALENDAR
