BEGIN:VCALENDAR
VERSION:2.0
PRODID:-//AudioTheme 3.0.2
BEGIN:VEVENT
UID:urn:uuid:eb6099d4-7b4f-418a-a7ff-080ee3c6ed5f
URL:https://alisonmelville.com/shows/j-s-bachs-st-matthew-passion/
DTSTART;TZID=GMT:20190322T000000
SUMMARY:J.S. Bach's St. Matthew Passion
DESCRIPTION:Tafelmusik Baroque Orchestra under guest director Masaaki Suzuki.
LOCATION:Trinity St. Paul's Centre\, 427 Bloor St W\, Toronto\, Ontario\, Canada\, M5S 1X7
END:VEVENT
END:VCALENDAR
