BEGIN:VCALENDAR
VERSION:2.0
PRODID:-//AudioTheme 3.0.2
BEGIN:VEVENT
UID:urn:uuid:e05a102d-8c90-42e6-a2d5-1693dfdd741e
URL:https://alisonmelville.com/shows/jesu-der-du-meine-seele/
DTSTART;TZID=GMT:20181012T000000
SUMMARY:Jesu, der du meine Seele
DESCRIPTION:Performances of Bach's cantatas BWV 167 and BWV 78\, with musicians from Tafelmusik\, Theatre of Early Music\, Schola Cantorum and Collegium Musicum of the University of Toronto.
LOCATION:St. George's German Church\, 410 College Street\, Toronto\, ON
END:VEVENT
END:VCALENDAR
