BEGIN:VCALENDAR
VERSION:2.0
PRODID:-//AudioTheme 3.0.2
BEGIN:VEVENT
UID:urn:uuid:3e361146-0ac4-442b-9f85-d420cdfd70b0
URL:https://alisonmelville.com/shows/monteverdis-the-return-of-ulysses-2/
DTSTART;TZID=GMT:20180421T233000
SUMMARY:Monteverdi's 'The Return of Ulysses'
DESCRIPTION:Opera Atelier's production of Monteverdi's masterpiece\, with the Tafelmusik Baroque Orchestra.
LOCATION:Elgin Theatre\, 189 Yonge St\, Toronto\, Ontario\, Canada\, M5B 1M4
END:VEVENT
END:VCALENDAR
