BEGIN:VCALENDAR
VERSION:2.0
PRODID:-//AudioTheme 3.0.2
BEGIN:VEVENT
UID:urn:uuid:a2d9a31c-f05d-49c9-a541-0248218ab3e8
URL:https://alisonmelville.com/shows/monteverdis-the-return-of-ulysses-4/
DTSTART;TZID=GMT:20180424T233000
SUMMARY:Monteverdi's 'The Return of Ulysses'
DESCRIPTION:Opera Atelier's production of Monteverdi's masterpiece\, with the Tafelmusik Baroque Orchestra.
LOCATION:Elgin Theatre\, 189 Yonge St\, Toronto\, Ontario\, Canada\, M5B 1M4
END:VEVENT
END:VCALENDAR
