BEGIN:VCALENDAR
VERSION:2.0
PRODID:-//AudioTheme 3.0.2
BEGIN:VEVENT
UID:urn:uuid:19c1362f-c691-4e12-aa5e-a4255f663b24
URL:https://alisonmelville.com/shows/monteverdis-the-return-of-ulysses-6/
DTSTART;TZID=GMT:20180428T203000
SUMMARY:Monteverdi's 'The Return of Ulysses'
DESCRIPTION:Opera Atelier's production of Monteverdi's masterpiece\, with the Tafelmusik Baroque Orchestra.
LOCATION:Elgin Theatre\, 189 Yonge St\, Toronto\, Ontario\, Canada\, M5B 1M4
END:VEVENT
END:VCALENDAR
