BEGIN:VCALENDAR
VERSION:2.0
PRODID:-//AudioTheme 3.0.2
BEGIN:VEVENT
UID:urn:uuid:7087fa46-b02f-49d8-99c2-1d510f45afe8
URL:https://alisonmelville.com/shows/monteverdis-the-return-of-ulysses/
DTSTART;TZID=GMT:20180419T233000
SUMMARY:Monteverdi's 'The Return of Ulysses'
DESCRIPTION:Opera Atelier's production of Monteverdi's masterpiece\, with the Tafelmusik Baroque Orchestra.
LOCATION:Elgin Theatre\, 189 Yonge St\, Toronto\, Ontario\, Canada\, M5B 1M4
END:VEVENT
END:VCALENDAR
