BEGIN:VCALENDAR
VERSION:2.0
PRODID:-//AudioTheme 3.0.2
BEGIN:VEVENT
UID:urn:uuid:58ba1841-f49c-4e9a-8968-182a4bea42fc
URL:https://alisonmelville.com/shows/mozarts-idomeneo-2/
DTSTART;TZID=GMT:20190406T233000
SUMMARY:Mozart's Idomeneo
DESCRIPTION:A splendiferous Opera Atelier production.
LOCATION:Elgin Theatre\, 189 Yonge St\, Toronto\, Ontario\, Canada\, M5B 1M4
END:VEVENT
END:VCALENDAR
