BEGIN:VCALENDAR
VERSION:2.0
PRODID:-//AudioTheme 3.0.2
BEGIN:VEVENT
UID:urn:uuid:87ee4d2b-7777-44e3-ad3b-32a40d5fbdd7
URL:https://alisonmelville.com/shows/mozarts-idomeneo-3/
DTSTART;TZID=GMT:20190407T190000
SUMMARY:Mozart's Idomeneo
DESCRIPTION:A splendiferous Opera Atelier production.
LOCATION:Elgin Theatre\, 189 Yonge St\, Toronto\, Ontario\, Canada\, M5B 1M4
END:VEVENT
END:VCALENDAR
