BEGIN:VCALENDAR
VERSION:2.0
PRODID:-//AudioTheme 3.0.2
BEGIN:VEVENT
UID:urn:uuid:ba5a5b7f-4545-4545-92a8-e2542eada0e3
URL:https://alisonmelville.com/shows/mozarts-idomeneo-4/
DTSTART;TZID=GMT:20190412T233000
SUMMARY:Mozart's Idomeneo
DESCRIPTION:A splendiferous Opera Atelier production.
LOCATION:Elgin Theatre\, 189 Yonge St\, Toronto\, Ontario\, Canada\, M5B 1M4
END:VEVENT
END:VCALENDAR
