BEGIN:VCALENDAR
VERSION:2.0
PRODID:-//AudioTheme 3.0.2
BEGIN:VEVENT
UID:urn:uuid:8cc600fb-cf85-4352-ac86-5d7c56855c2e
URL:https://alisonmelville.com/shows/mozarts-idomeneo-5/
DTSTART;TZID=GMT:20190413T203000
SUMMARY:Mozart's Idomeneo
DESCRIPTION:A splendiferous Opera Atelier production.
LOCATION:Elgin Theatre\, 189 Yonge St\, Toronto\, Ontario\, Canada\, M5B 1M4
END:VEVENT
END:VCALENDAR
