BEGIN:VCALENDAR
VERSION:2.0
PRODID:-//AudioTheme 3.0.2
BEGIN:VEVENT
UID:urn:uuid:02f930f3-4a14-4855-b3ef-b5c1ee368133
URL:https://alisonmelville.com/shows/mozarts-idomeneo/
DTSTART;TZID=GMT:20190404T233000
SUMMARY:Mozart's Idomeneo
DESCRIPTION:A splendiferous Opera Atelier production
LOCATION:Elgin Theatre\, 189 Yonge St\, Toronto\, Ontario\, Canada\, M5B 1M4
END:VEVENT
END:VCALENDAR
