BEGIN:VCALENDAR
VERSION:2.0
PRODID:-//AudioTheme 3.0.2
BEGIN:VEVENT
UID:urn:uuid:b0cf7957-560b-4fef-96ea-bd362850d8cb
URL:https://alisonmelville.com/shows/north-wind-concerts-traverso-palooza/
DTSTART;TZID=GMT:20230602T233000
SUMMARY:North Wind Concerts: Traverso-Palooza
DESCRIPTION:Music for one\, three and five Baroque flutes. A rare opportunity! Featuring Les Allt\, Laura Chambers\, Jin Cho\, Anthea Conway-White\, Alison Melville and Emily Richardson. https://northwindconcerts.com/traverso-palooza/
LOCATION:Heliconian Hall\, 35 Hazelton Ave\, Toronto\, Ontario\, Canada\, M5R 1M6
END:VEVENT
END:VCALENDAR
