BEGIN:VCALENDAR
VERSION:2.0
PRODID:-//AudioTheme 3.0.2
BEGIN:VEVENT
UID:urn:uuid:d457a045-66b1-485f-b228-99c27703da7f
URL:https://alisonmelville.com/shows/peace-on-earth-a-christmas-salon-2/
DTSTART;TZID=GMT:20171218T000000
SUMMARY:Peace on Earth: A Christmas Salon
DESCRIPTION:Toronto Masque Theatre's popular Christmas 'salon' evening.
LOCATION:The Atrium\, 21 Shaftesbury Avenue\, Toronto\, ON
END:VEVENT
END:VCALENDAR
