BEGIN:VCALENDAR
VERSION:2.0
PRODID:-//AudioTheme 3.0.2
BEGIN:VEVENT
UID:urn:uuid:1d0f225f-0b82-495f-8d1a-ef9488b56ac9
URL:https://alisonmelville.com/shows/peace-on-earth-a-christmas-salon/
DTSTART;TZID=GMT:20171217T000000
SUMMARY:Peace on Earth: A Christmas Salon
DESCRIPTION:Toronto Masque Theatre's popular Christmas 'salon' evening.
LOCATION:The Atrium\, 21 Shaftesbury Avenue\, Toronto\, ON
END:VEVENT
END:VCALENDAR
