BEGIN:VCALENDAR
VERSION:2.0
PRODID:-//AudioTheme 3.0.2
BEGIN:VEVENT
UID:urn:uuid:86f61aae-02c1-4b65-82a2-bbd1ab680922
URL:https://alisonmelville.com/shows/recorder-romp-at-the-rcm-second-session/
DTSTART;TZID=GMT:20180201T000000
SUMMARY:Recorder Romp at the RCM, second session
DESCRIPTION:The second and final session of a music appreciation course on the recorder\, its music\, and the program for Tafelmusik's 'Recorder Romp' concerts.   10 a.m. - 12 noon.   Also Thursday January 25/18\, same time\, same station. 
LOCATION:Royal Conservatory of Music\, 273 Bloor St. West\, Toronto\, ON
END:VEVENT
END:VCALENDAR
