BEGIN:VCALENDAR
VERSION:2.0
PRODID:-//AudioTheme 3.0.2
BEGIN:VEVENT
UID:urn:uuid:dea4feb4-aa5d-43c2-861a-676bc49d1388
URL:https://alisonmelville.com/shows/rosa-barocca-les-elemens/
DTSTART;TZID=GMT:20230429T000000
SUMMARY:Rosa Barocca: Les Élémens
DESCRIPTION:Pachelbel\, Vivaldi\, and Rebel's 'Les Élémens' with Rosa Barocca Baroque Orchestra\, directed by Claude Lapalme.
LOCATION:Red Deer Arts Centre\, Red Deer\, Alberta
END:VEVENT
END:VCALENDAR
